
BEGIN:VCALENDAR
VERSION:2.0
MEGHOD:PUBLISH
PRODID:-//Microsoft Corporation//Outlook 15.0 MIMEDIR//EN
CALSCALE:GREGORIAN
X-WR-CALNAME:SMM_events
	
BEGIN:VEVENT
CLASS:PUBLIC
UID:20260422T204344ZpTynfs
DTSTAMP:20260422T204344Z
DTSTART;VALUE=DATE:20261028
DTEND;VALUE=DATE:20261201
SUMMARY:CCAE 2026 SMM(第十五届)铜业年会
LOCATION:中国·山西·运城深航国际酒店
DESCRIPTION:有色网会展
PRIORITY:5
END:VEVENT
	
END:VCALENDAR
	