
BEGIN:VCALENDAR
VERSION:2.0
MEGHOD:PUBLISH
PRODID:-//Microsoft Corporation//Outlook 15.0 MIMEDIR//EN
CALSCALE:GREGORIAN
X-WR-CALNAME:SMM_events
	
BEGIN:VEVENT
CLASS:PUBLIC
UID:20260422T204219ZfweprL
DTSTAMP:20260422T204219Z
DTSTART;VALUE=DATE:20261125
DTEND;VALUE=DATE:20261128
SUMMARY:SMM IEMC 2026（第六届）电机年会暨产业链博览会
LOCATION:江苏·苏州
DESCRIPTION:有色网会展
PRIORITY:5
END:VEVENT
	
END:VCALENDAR
	