
BEGIN:VCALENDAR
VERSION:2.0
MEGHOD:PUBLISH
PRODID:-//Microsoft Corporation//Outlook 15.0 MIMEDIR//EN
CALSCALE:GREGORIAN
X-WR-CALNAME:SMM_events
	
BEGIN:VEVENT
CLASS:PUBLIC
UID:20260422T204415ZfdsYlh
DTSTAMP:20260422T204415Z
DTSTART;VALUE=DATE:20261112
DTEND;VALUE=DATE:20261114
SUMMARY:LABC 2026SMM全球铅酸蓄电池供应链创新大会
LOCATION:越南·胡志明市
DESCRIPTION:有色网会展
PRIORITY:5
END:VEVENT
	
END:VCALENDAR
	