
BEGIN:VCALENDAR
VERSION:2.0
MEGHOD:PUBLISH
PRODID:-//Microsoft Corporation//Outlook 15.0 MIMEDIR//EN
CALSCALE:GREGORIAN
X-WR-CALNAME:SMM_events
	
BEGIN:VEVENT
CLASS:PUBLIC
UID:20260425T200524ZpAjtUz
DTSTAMP:20260425T200524Z
DTSTART;VALUE=DATE:20260903
DTEND;VALUE=DATE:20260905
SUMMARY:CLNB2026亚洲电池材料合作论坛
LOCATION:韩国·首尔
DESCRIPTION:有色网会展
PRIORITY:5
END:VEVENT
	
END:VCALENDAR
	